BEGIN:VCALENDAR
VERSION:2.0
PRODID:-//Holy Faith - ECPv6.15.17.1//NONSGML v1.0//EN
CALSCALE:GREGORIAN
METHOD:PUBLISH
X-ORIGINAL-URL:https://holyfaith.org
X-WR-CALDESC:Events for Holy Faith
REFRESH-INTERVAL;VALUE=DURATION:PT1H
X-Robots-Tag:noindex
X-PUBLISHED-TTL:PT1H
BEGIN:VTIMEZONE
TZID:America/New_York
BEGIN:DAYLIGHT
TZOFFSETFROM:-0500
TZOFFSETTO:-0400
TZNAME:EDT
DTSTART:20250309T070000
END:DAYLIGHT
BEGIN:STANDARD
TZOFFSETFROM:-0400
TZOFFSETTO:-0500
TZNAME:EST
DTSTART:20251102T060000
END:STANDARD
BEGIN:DAYLIGHT
TZOFFSETFROM:-0500
TZOFFSETTO:-0400
TZNAME:EDT
DTSTART:20260308T070000
END:DAYLIGHT
BEGIN:STANDARD
TZOFFSETFROM:-0400
TZOFFSETTO:-0500
TZNAME:EST
DTSTART:20261101T060000
END:STANDARD
BEGIN:DAYLIGHT
TZOFFSETFROM:-0500
TZOFFSETTO:-0400
TZNAME:EDT
DTSTART:20270314T070000
END:DAYLIGHT
BEGIN:STANDARD
TZOFFSETFROM:-0400
TZOFFSETTO:-0500
TZNAME:EST
DTSTART:20271107T060000
END:STANDARD
END:VTIMEZONE
BEGIN:VEVENT
DTSTART;TZID=America/New_York:20260507T074500
DTEND;TZID=America/New_York:20260507T074500
DTSTAMP:20260424T070657
CREATED:20260412T185005Z
LAST-MODIFIED:20260412T185005Z
UID:15399-1778139900-1778139900@holyfaith.org
SUMMARY:LCMS NJ District Mission Classic Golf Tournament
DESCRIPTION:
URL:https://holyfaith.org/event/lcms-nj-district-mission-classic-golf-tournament/
LOCATION:NJ
CATEGORIES:Church Events
END:VEVENT
BEGIN:VEVENT
DTSTART;TZID=America/New_York:20260507T100000
DTEND;TZID=America/New_York:20260507T100000
DTSTAMP:20260424T070657
CREATED:20260408T200923Z
LAST-MODIFIED:20260408T200923Z
UID:15373-1778148000-1778148000@holyfaith.org
SUMMARY:Adult Bible Study
DESCRIPTION:
URL:https://holyfaith.org/event/adult-bible-study-9/
LOCATION:Holy Faith Lutheran Church\, 104 Paradise Road\, Oak Ridge\, NJ\, 07438\, United States
CATEGORIES:Church Events
END:VEVENT
END:VCALENDAR